BEGIN:VCALENDAR
VERSION:2.0
METHOD:PUBLISH
PRODID:-//Accessible Web Design//My Calendar//http://www.joedolson.com//v2.5.13//EN
BEGIN:VEVENT
UID:251-82
LOCATION:     
SUMMARY:Christmas Holidays
DTSTAMP:20171225T000000
ORGANIZER;CN=admin:MAILTO:oliverdavitt@gmail.com
DTSTART:20171225T000000
DTEND:20180106T000000
URL;VALUE=URI:http://scoilbhrideclane.ie/?page_id=5
DESCRIPTION:
CATEGORIES:School Holidays
END:VEVENT
BEGIN:VEVENT
UID:251-82
LOCATION:     
SUMMARY:Christmas Holidays
DTSTAMP:20171225T000000
ORGANIZER;CN=admin:MAILTO:oliverdavitt@gmail.com
DTSTART:20171225T000000
DTEND:20180106T000000
URL;VALUE=URI:http://scoilbhrideclane.ie/?page_id=5
DESCRIPTION:
CATEGORIES:School Holidays
END:VEVENT
BEGIN:VEVENT
UID:251-82
LOCATION:     
SUMMARY:Christmas Holidays
DTSTAMP:20171225T000000
ORGANIZER;CN=admin:MAILTO:oliverdavitt@gmail.com
DTSTART:20171225T000000
DTEND:20180106T000000
URL;VALUE=URI:http://scoilbhrideclane.ie/?page_id=5
DESCRIPTION:
CATEGORIES:School Holidays
END:VEVENT
BEGIN:VEVENT
UID:251-82
LOCATION:     
SUMMARY:Christmas Holidays
DTSTAMP:20171225T000000
ORGANIZER;CN=admin:MAILTO:oliverdavitt@gmail.com
DTSTART:20171225T000000
DTEND:20180106T000000
URL;VALUE=URI:http://scoilbhrideclane.ie/?page_id=5
DESCRIPTION:
CATEGORIES:School Holidays
END:VEVENT
BEGIN:VEVENT
UID:251-82
LOCATION:     
SUMMARY:Christmas Holidays
DTSTAMP:20171225T000000
ORGANIZER;CN=admin:MAILTO:oliverdavitt@gmail.com
DTSTART:20171225T000000
DTEND:20180106T000000
URL;VALUE=URI:http://scoilbhrideclane.ie/?page_id=5
DESCRIPTION:
CATEGORIES:School Holidays
END:VEVENT
BEGIN:VEVENT
UID:251-82
LOCATION:     
SUMMARY:Christmas Holidays
DTSTAMP:20171225T000000
ORGANIZER;CN=admin:MAILTO:oliverdavitt@gmail.com
DTSTART:20171225T000000
DTEND:20180106T000000
URL;VALUE=URI:http://scoilbhrideclane.ie/?page_id=5
DESCRIPTION:
CATEGORIES:School Holidays
END:VEVENT
BEGIN:VEVENT
UID:251-82
LOCATION:     
SUMMARY:Christmas Holidays
DTSTAMP:20171225T000000
ORGANIZER;CN=admin:MAILTO:oliverdavitt@gmail.com
DTSTART:20171225T000000
DTEND:20180106T000000
URL;VALUE=URI:http://scoilbhrideclane.ie/?page_id=5
DESCRIPTION:
CATEGORIES:School Holidays
END:VEVENT
BEGIN:VEVENT
UID:251-82
LOCATION:     
SUMMARY:Christmas Holidays
DTSTAMP:20171225T000000
ORGANIZER;CN=admin:MAILTO:oliverdavitt@gmail.com
DTSTART:20171225T000000
DTEND:20180106T000000
URL;VALUE=URI:http://scoilbhrideclane.ie/?page_id=5
DESCRIPTION:
CATEGORIES:School Holidays
END:VEVENT
BEGIN:VEVENT
UID:251-82
LOCATION:     
SUMMARY:Christmas Holidays
DTSTAMP:20171225T000000
ORGANIZER;CN=admin:MAILTO:oliverdavitt@gmail.com
DTSTART:20171225T000000
DTEND:20180106T000000
URL;VALUE=URI:http://scoilbhrideclane.ie/?page_id=5
DESCRIPTION:
CATEGORIES:School Holidays
END:VEVENT
BEGIN:VEVENT
UID:251-82
LOCATION:     
SUMMARY:Christmas Holidays
DTSTAMP:20171225T000000
ORGANIZER;CN=admin:MAILTO:oliverdavitt@gmail.com
DTSTART:20171225T000000
DTEND:20180106T000000
URL;VALUE=URI:http://scoilbhrideclane.ie/?page_id=5
DESCRIPTION:
CATEGORIES:School Holidays
END:VEVENT
BEGIN:VEVENT
UID:251-82
LOCATION:     
SUMMARY:Christmas Holidays
DTSTAMP:20171225T000000
ORGANIZER;CN=admin:MAILTO:oliverdavitt@gmail.com
DTSTART:20171225T000000
DTEND:20180106T000000
URL;VALUE=URI:http://scoilbhrideclane.ie/?page_id=5
DESCRIPTION:
CATEGORIES:School Holidays
END:VEVENT
BEGIN:VEVENT
UID:251-82
LOCATION:     
SUMMARY:Christmas Holidays
DTSTAMP:20171225T000000
ORGANIZER;CN=admin:MAILTO:oliverdavitt@gmail.com
DTSTART:20171225T000000
DTEND:20180106T000000
URL;VALUE=URI:http://scoilbhrideclane.ie/?page_id=5
DESCRIPTION:
CATEGORIES:School Holidays
END:VEVENT
END:VCALENDAR