BEGIN:VCALENDAR
VERSION:2.0
METHOD:PUBLISH
PRODID:-//Accessible Web Design//My Calendar//http://www.joedolson.com//v2.5.13//EN
BEGIN:VEVENT
UID:277-106
LOCATION:     
SUMMARY:Parents' Association Annual General Meeting: 8pm
DTSTAMP:20170928T000000
ORGANIZER;CN=Marina Byrne Jordan:MAILTO:marinabyrnejordan@gmail.com
DTSTART:20170928T000000
DTEND:20170929T000000
URL;VALUE=URI:http://scoilbhrideclane.ie/?page_id=5
DESCRIPTION:All Parents / Guardians are invited to attend the Annual General Meeting of Scoil Bhríde Parents'Associated which will be held on Thursday 28th September 2017, at 8pm in Scoil Bhríde.
CATEGORIES:Fundraising Events
END:VEVENT
BEGIN:VEVENT
UID:275-75
LOCATION:     
SUMMARY:Used Clothing Collection - fundraiser
DTSTAMP:20171004T000000
ORGANIZER;CN=admin:MAILTO:oliverdavitt@gmail.com
DTSTART:20171004T000000
DTEND:20171005T000000
URL;VALUE=URI:http://scoilbhrideclane.ie/?page_id=5
DESCRIPTION:The Scoil Bhríde Parents Association will be organising a 'used clothing' collection on Wednesday, 4th October 2017 in Scoil Bhríde.All items of clothing, including shoes, belts, handbags, ties, bed linen, curtains etc. are accepted. Clothing can be in any condition, once they are clean. Items we cannot accept are; dirty or wet clothes, mats, carpets or duvets.Please drop all bags into Scoil Bhríde before 09.00 am on Wednesdsay 4th October. The school will also be open between 6-9 pm on Tuesday evening 3rd October for drop-off.Thank you for your continued support with this important fundraising activity.
CATEGORIES:Fundraising Events
END:VEVENT
BEGIN:VEVENT
UID:279-107
LOCATION:     
SUMMARY:Meeting for Parents: Confirmation 2018 (20.30, Parish Hall)
DTSTAMP:20171018T000000
ORGANIZER;CN=admin:MAILTO:oliverdavitt@gmail.com
DTSTART:20171018T000000
DTEND:20171019T000000
URL;VALUE=URI:http://scoilbhrideclane.ie/?page_id=5
DESCRIPTION:Date: Wednesday 18th OctoberTime: 8:30p.m.Venue: Parish Hall
CATEGORIES:School Events
END:VEVENT
BEGIN:VEVENT
UID:280-108
LOCATION:     
SUMMARY:First Communion Enrolment Ceremony
DTSTAMP:20171022T113000
ORGANIZER;CN=admin:MAILTO:oliverdavitt@gmail.com
DTSTART:20171022T113000
DTEND:20171022T123000
URL;VALUE=URI:http://scoilbhrideclane.ie/?page_id=5
DESCRIPTION:
CATEGORIES:School Events
END:VEVENT
BEGIN:VEVENT
UID:286-114
LOCATION:     
SUMMARY:Funathon
DTSTAMP:20171027T000000
ORGANIZER;CN=admin:MAILTO:oliverdavitt@gmail.com
DTSTART:20171027T000000
DTEND:20171028T000000
URL;VALUE=URI:http://scoilbhrideclane.ie/?page_id=5
DESCRIPTION:This year we will once again be dressing up for Halloween on Friday 27th October. The children are encouraged to wear homemade costumes and to bring in a dress-up fee of €2 on the day. This year we won't be having a competition for the best dressed costume as it puts unnecessary pressure on everyone.
CATEGORIES:Fundraising Events
END:VEVENT
BEGIN:VEVENT
UID:235-80
LOCATION:     
SUMMARY:Halloween mid-term
DTSTAMP:20171030T000000
ORGANIZER;CN=Marina Byrne Jordan:MAILTO:marinabyrnejordan@gmail.com
DTSTART:20171030T000000
DTEND:20171104T000000
URL;VALUE=URI:http://scoilbhrideclane.ie/?page_id=5
DESCRIPTION:
CATEGORIES:Fundraising Events
END:VEVENT
BEGIN:VEVENT
UID:235-80
LOCATION:     
SUMMARY:Halloween mid-term
DTSTAMP:20171030T000000
ORGANIZER;CN=Marina Byrne Jordan:MAILTO:marinabyrnejordan@gmail.com
DTSTART:20171030T000000
DTEND:20171104T000000
URL;VALUE=URI:http://scoilbhrideclane.ie/?page_id=5
DESCRIPTION:
CATEGORIES:Fundraising Events
END:VEVENT
BEGIN:VEVENT
UID:235-80
LOCATION:     
SUMMARY:Halloween mid-term
DTSTAMP:20171030T000000
ORGANIZER;CN=Marina Byrne Jordan:MAILTO:marinabyrnejordan@gmail.com
DTSTART:20171030T000000
DTEND:20171104T000000
URL;VALUE=URI:http://scoilbhrideclane.ie/?page_id=5
DESCRIPTION:
CATEGORIES:Fundraising Events
END:VEVENT
BEGIN:VEVENT
UID:235-80
LOCATION:     
SUMMARY:Halloween mid-term
DTSTAMP:20171030T000000
ORGANIZER;CN=Marina Byrne Jordan:MAILTO:marinabyrnejordan@gmail.com
DTSTART:20171030T000000
DTEND:20171104T000000
URL;VALUE=URI:http://scoilbhrideclane.ie/?page_id=5
DESCRIPTION:
CATEGORIES:Fundraising Events
END:VEVENT
BEGIN:VEVENT
UID:235-80
LOCATION:     
SUMMARY:Halloween mid-term
DTSTAMP:20171030T000000
ORGANIZER;CN=Marina Byrne Jordan:MAILTO:marinabyrnejordan@gmail.com
DTSTART:20171030T000000
DTEND:20171104T000000
URL;VALUE=URI:http://scoilbhrideclane.ie/?page_id=5
DESCRIPTION:
CATEGORIES:Fundraising Events
END:VEVENT
BEGIN:VEVENT
UID:236-81
LOCATION:     
SUMMARY:School re-opens
DTSTAMP:20171106T000000
ORGANIZER;CN=admin:MAILTO:oliverdavitt@gmail.com
DTSTART:20171106T000000
DTEND:20171107T000000
URL;VALUE=URI:http://scoilbhrideclane.ie/?page_id=5
DESCRIPTION:
CATEGORIES:School Events
END:VEVENT
BEGIN:VEVENT
UID:289-115
LOCATION:     
SUMMARY:Last day for return of Christmas Shoe Boxes
DTSTAMP:20171110T000000
ORGANIZER;CN=admin:MAILTO:oliverdavitt@gmail.com
DTSTART:20171110T000000
DTEND:20171111T000000
URL;VALUE=URI:http://scoilbhrideclane.ie/?page_id=5
DESCRIPTION:Christmas Shoe Box Appeal; 2017
CATEGORIES:School Events
END:VEVENT
END:VCALENDAR