BEGIN:VCALENDAR
VERSION:2.0
METHOD:PUBLISH
PRODID:-//Accessible Web Design//My Calendar//http://www.joedolson.com//v2.5.13//EN
BEGIN:VEVENT
UID:235-80
LOCATION:     
SUMMARY:Halloween mid-term
DTSTAMP:20171030T000000
ORGANIZER;CN=Marina Byrne Jordan:MAILTO:marinabyrnejordan@gmail.com
DTSTART:20171030T000000
DTEND:20171104T000000
URL;VALUE=URI:http://scoilbhrideclane.ie/?page_id=5
DESCRIPTION:
CATEGORIES:Fundraising Events
END:VEVENT
BEGIN:VEVENT
UID:235-80
LOCATION:     
SUMMARY:Halloween mid-term
DTSTAMP:20171030T000000
ORGANIZER;CN=Marina Byrne Jordan:MAILTO:marinabyrnejordan@gmail.com
DTSTART:20171030T000000
DTEND:20171104T000000
URL;VALUE=URI:http://scoilbhrideclane.ie/?page_id=5
DESCRIPTION:
CATEGORIES:Fundraising Events
END:VEVENT
BEGIN:VEVENT
UID:235-80
LOCATION:     
SUMMARY:Halloween mid-term
DTSTAMP:20171030T000000
ORGANIZER;CN=Marina Byrne Jordan:MAILTO:marinabyrnejordan@gmail.com
DTSTART:20171030T000000
DTEND:20171104T000000
URL;VALUE=URI:http://scoilbhrideclane.ie/?page_id=5
DESCRIPTION:
CATEGORIES:Fundraising Events
END:VEVENT
BEGIN:VEVENT
UID:235-80
LOCATION:     
SUMMARY:Halloween mid-term
DTSTAMP:20171030T000000
ORGANIZER;CN=Marina Byrne Jordan:MAILTO:marinabyrnejordan@gmail.com
DTSTART:20171030T000000
DTEND:20171104T000000
URL;VALUE=URI:http://scoilbhrideclane.ie/?page_id=5
DESCRIPTION:
CATEGORIES:Fundraising Events
END:VEVENT
BEGIN:VEVENT
UID:235-80
LOCATION:     
SUMMARY:Halloween mid-term
DTSTAMP:20171030T000000
ORGANIZER;CN=Marina Byrne Jordan:MAILTO:marinabyrnejordan@gmail.com
DTSTART:20171030T000000
DTEND:20171104T000000
URL;VALUE=URI:http://scoilbhrideclane.ie/?page_id=5
DESCRIPTION:
CATEGORIES:Fundraising Events
END:VEVENT
END:VCALENDAR