BEGIN:VCALENDAR
VERSION:2.0
METHOD:PUBLISH
PRODID:-//Accessible Web Design//My Calendar//http://www.joedolson.com//v2.5.13//EN
BEGIN:VEVENT
UID:236-81
LOCATION:     
SUMMARY:School re-opens
DTSTAMP:20171106T000000
ORGANIZER;CN=admin:MAILTO:oliverdavitt@gmail.com
DTSTART:20171106T000000
DTEND:20171107T000000
URL;VALUE=URI:http://scoilbhrideclane.ie/?page_id=5
DESCRIPTION:
CATEGORIES:School Events
END:VEVENT
BEGIN:VEVENT
UID:289-115
LOCATION:     
SUMMARY:Last day for return of Christmas Shoe Boxes
DTSTAMP:20171110T000000
ORGANIZER;CN=admin:MAILTO:oliverdavitt@gmail.com
DTSTART:20171110T000000
DTEND:20171111T000000
URL;VALUE=URI:http://scoilbhrideclane.ie/?page_id=5
DESCRIPTION:Christmas Shoe Box Appeal; 2017
CATEGORIES:School Events
END:VEVENT
END:VCALENDAR